BEGIN:VCALENDAR
PRODID:-//http://statistik.d-u-v.org//PHP ultracalendar//EN
VERSION:2.0
METHOD:PUBLISH
BEGIN:VEVENT
DTSTAMP:20260424T172641
CREATED:20170302T151441
UID:1777051601.0.75773800-40021@statistik.d-u-v.org
SUMMARY:Berryman 50 Mile
DESCRIPTION: Berryman 50 Mile\n
  David White\n
  slugrd[at]yahoo.com
DTSTART:20170520T063000
DTEND:00000000T235900
LOCATION:Potosi, MO\, USA
URL:http://stlouisultrarunnersgroup.net/
CATEGORIES:Ultramarathon
CONTACT:David White
CLASS:PUBLIC
PRIORITY:5
TRANSP:OPAQUE
END:VEVENT
END:VCALENDAR
