BEGIN:VCALENDAR
PRODID:-//http://statistik.d-u-v.org//PHP ultracalendar//EN
VERSION:2.0
METHOD:PUBLISH
BEGIN:VEVENT
DTSTAMP:20260420T030751
CREATED:20170223T164132
UID:1776654471.0.96964800-39937@statistik.d-u-v.org
SUMMARY:Ogden Valley Ultra Marathon
DESCRIPTION: Ogden Valley Ultra Marathon\n
  \n
  
DTSTART:20061021T000000
DTEND:00000000T235900
LOCATION:Mountain Green, UT\, USA
URL:http://www.stridersrunning.com/
CATEGORIES:Ultramarathon
CONTACT:
CLASS:PUBLIC
PRIORITY:5
TRANSP:OPAQUE
END:VEVENT
END:VCALENDAR
