BEGIN:VCALENDAR
PRODID:-//http://statistik.d-u-v.org//PHP ultracalendar//EN
VERSION:2.0
METHOD:PUBLISH
BEGIN:VEVENT
DTSTAMP:20260419T230713
CREATED:20170223T164132
UID:1776640033.0.24016300-39934@statistik.d-u-v.org
SUMMARY:Mogollon Monster 100 Mile
DESCRIPTION: Mogollon Monster 100 Mile\n
  Jeremy Dougherty\n
  azadventures[at]getoutgetlost.com
DTSTART:20170916T000000
DTEND:20170917T235900
LOCATION:Pine, AZ\, USA
URL:http://www.mogollonmonster100.com/
CATEGORIES:Ultramarathon
CONTACT:Jeremy Dougherty
CLASS:PUBLIC
PRIORITY:5
TRANSP:OPAQUE
END:VEVENT
END:VCALENDAR
