BEGIN:VCALENDAR
PRODID:-//http://statistik.d-u-v.org//PHP ultracalendar//EN
VERSION:2.0
METHOD:PUBLISH
BEGIN:VEVENT
DTSTAMP:20260424T205523
CREATED:20170221T151103
UID:1777064123.0.43742600-39863@statistik.d-u-v.org
SUMMARY:Yakima Valley Coca-Cola Ultramarathons 50 Km
DESCRIPTION: Yakima Valley Coca-Cola Ultramarathons 50 Km\n
  \n
  
DTSTART:19810503T000000
DTEND:00000000T235900
LOCATION:Yakima, WA\, USA
URL:
CATEGORIES:Ultramarathon
CONTACT:
CLASS:PUBLIC
PRIORITY:5
TRANSP:OPAQUE
END:VEVENT
END:VCALENDAR
