BEGIN:VCALENDAR
PRODID:-//http://statistik.d-u-v.org//PHP ultracalendar//EN
VERSION:2.0
METHOD:PUBLISH
BEGIN:VEVENT
DTSTAMP:20260419T200542
CREATED:20170219T161729
UID:1776629142.0.68372800-39808@statistik.d-u-v.org
SUMMARY:River Valley Revenge 50k
DESCRIPTION: River Valley Revenge 50k\n
  \n
  
DTSTART:20160618T000000
DTEND:00000000T235900
LOCATION:Edmonton, AB\, CAN
URL:http://www.rivervalleyrevenge.com/
CATEGORIES:Ultramarathon
CONTACT:
CLASS:PUBLIC
PRIORITY:5
TRANSP:OPAQUE
END:VEVENT
END:VCALENDAR
