BEGIN:VCALENDAR
PRODID:-//http://statistik.d-u-v.org//PHP ultracalendar//EN
VERSION:2.0
METHOD:PUBLISH
BEGIN:VEVENT
DTSTAMP:20260419T202857
CREATED:20170217T155210
UID:1776630537.0.30919700-39778@statistik.d-u-v.org
SUMMARY:Virginia 24 Hour Run for Cancer
DESCRIPTION: Virginia 24 Hour Run for Cancer\n
  \n
  
DTSTART:20040417T000000
DTEND:20040418T235900
LOCATION:Hampton, VA\, USA
URL:http://www.happypaceraces.com/id22.html
CATEGORIES:Ultramarathon
CONTACT:
CLASS:PUBLIC
PRIORITY:5
TRANSP:OPAQUE
END:VEVENT
END:VCALENDAR
