BEGIN:VCALENDAR
PRODID:-//http://statistik.d-u-v.org//PHP ultracalendar//EN
VERSION:2.0
METHOD:PUBLISH
BEGIN:VEVENT
DTSTAMP:20260419T192415
CREATED:20170213T150548
UID:1776626655.0.70626400-39694@statistik.d-u-v.org
SUMMARY:Louisville's Love'n the Hills (LLTH 50K)
DESCRIPTION: Louisville's Love'n the Hills (LLTH 50K)\n
  \n
  
DTSTART:20060211T000000
DTEND:00000000T235900
LOCATION:Fairdale, KY\, USA
URL:http://llth50.blogspot.de/
CATEGORIES:Ultramarathon
CONTACT:
CLASS:PUBLIC
PRIORITY:5
TRANSP:OPAQUE
END:VEVENT
END:VCALENDAR
