BEGIN:VCALENDAR
PRODID:-//http://statistik.d-u-v.org//PHP ultracalendar//EN
VERSION:2.0
METHOD:PUBLISH
BEGIN:VEVENT
DTSTAMP:20260423T145127
CREATED:20170131T180703
UID:1776955887.0.58984400-39517@statistik.d-u-v.org
SUMMARY:Winter Buckeye Trail 50k
DESCRIPTION: Winter Buckeye Trail 50k\n
  \n
  info[at]westernreserveracing.com
DTSTART:20170129T000000
DTEND:00000000T235900
LOCATION:Brecksville, OH\, USA
URL:https://www.westernreserveracing.com/events/winter-buckeye-trail-50kmarathonhalf-marathon-run/
CATEGORIES:Ultramarathon
CONTACT:
CLASS:PUBLIC
PRIORITY:5
TRANSP:OPAQUE
END:VEVENT
END:VCALENDAR
