BEGIN:VCALENDAR
PRODID:-//http://statistik.d-u-v.org//PHP ultracalendar//EN
VERSION:2.0
METHOD:PUBLISH
BEGIN:VEVENT
DTSTAMP:20260423T011123
CREATED:20170131T153827
UID:1776906683.0.18631600-39508@statistik.d-u-v.org
SUMMARY:Frosty Fifty 50 Miles
DESCRIPTION: Frosty Fifty 50 Miles\n
  \n
  
DTSTART:20120114T000000
DTEND:00000000T235900
LOCATION:Crystal Lake, IL\, USA
URL:http://www.frostyfifty.com/
CATEGORIES:Ultramarathon
CONTACT:
CLASS:PUBLIC
PRIORITY:5
TRANSP:OPAQUE
END:VEVENT
END:VCALENDAR
