BEGIN:VCALENDAR
PRODID:-//http://statistik.d-u-v.org//PHP ultracalendar//EN
VERSION:2.0
METHOD:PUBLISH
BEGIN:VEVENT
DTSTAMP:20260423T011105
CREATED:20170126T225508
UID:1776906665.0.43057200-39428@statistik.d-u-v.org
SUMMARY:Trail du Kreiz Breizh
DESCRIPTION: Trail du Kreiz Breizh\n
  Philippe LE RUYET\n
  le-ruyet.philippe[at]wanadoo.fr
DTSTART:20170326T070000
DTEND:00000000T235900
LOCATION:Pontivy\, FRA
URL:http://www.trail-du-kreiz-breizh.com/
CATEGORIES:Ultramarathon
CONTACT:Philippe LE RUYET
CLASS:PUBLIC
PRIORITY:5
TRANSP:OPAQUE
END:VEVENT
END:VCALENDAR
