BEGIN:VCALENDAR
PRODID:-//http://statistik.d-u-v.org//PHP ultracalendar//EN
VERSION:2.0
METHOD:PUBLISH
BEGIN:VEVENT
DTSTAMP:20260422T232620
CREATED:20170126T135819
UID:1776900380.0.24608600-39409@statistik.d-u-v.org
SUMMARY:Wild Horse Criterium 50 Miles
DESCRIPTION: Wild Horse Criterium 50 Miles\n
  \n
  info[at]runqueensland.com
DTSTART:20170416T020000
DTEND:00000000T235900
LOCATION:Brisbane, QLD\, AUS
URL:http://www.runqueensland.com/Events/00%20WHC.html
CATEGORIES:Ultramarathon
CONTACT:
CLASS:PUBLIC
PRIORITY:5
TRANSP:OPAQUE
END:VEVENT
END:VCALENDAR
