BEGIN:VCALENDAR
PRODID:-//http://statistik.d-u-v.org//PHP ultracalendar//EN
VERSION:2.0
METHOD:PUBLISH
BEGIN:VEVENT
DTSTAMP:20260423T014945
CREATED:20170125T210808
UID:1776908985.0.54791700-39389@statistik.d-u-v.org
SUMMARY:Wild Hare 50 Mile Race
DESCRIPTION: Wild Hare 50 Mile Race\n
  Chris McWatters\n
  chris[at]tejastrails.com
DTSTART:20171118T000000
DTEND:00000000T235900
LOCATION:Warda, TX\, USA
URL:http://www.tejastrails.com/#/wild/
CATEGORIES:Ultramarathon
CONTACT:Chris McWatters
CLASS:PUBLIC
PRIORITY:5
TRANSP:OPAQUE
END:VEVENT
END:VCALENDAR
