BEGIN:VCALENDAR
PRODID:-//http://statistik.d-u-v.org//PHP ultracalendar//EN
VERSION:2.0
METHOD:PUBLISH
BEGIN:VEVENT
DTSTAMP:20260425T220227
CREATED:20170124T181359
UID:1777154547.0.73619400-39329@statistik.d-u-v.org
SUMMARY:Ouray 50 Mile Endurance Run
DESCRIPTION: Ouray 50 Mile Endurance Run\n
  \n
  charlesjohnstoncpa[at]gmail.com
DTSTART:20170805T120000
DTEND:20170806T235900
LOCATION:Fellin Park, Ouray, CO\, USA
URL:http://www.ouray100.com/#!home/mainPage
CATEGORIES:Ultramarathon
CONTACT:
CLASS:PUBLIC
PRIORITY:5
TRANSP:OPAQUE
END:VEVENT
END:VCALENDAR
