BEGIN:VCALENDAR
PRODID:-//http://statistik.d-u-v.org//PHP ultracalendar//EN
VERSION:2.0
METHOD:PUBLISH
BEGIN:VEVENT
DTSTAMP:20260423T070125
CREATED:20170123T151121
UID:1776927685.0.96531000-39256@statistik.d-u-v.org
SUMMARY:The Barkley Marathons 60 Mile Fun Run
DESCRIPTION: The Barkley Marathons 60 Mile Fun Run\n
  \n
  
DTSTART:19970405T000000
DTEND:19970407T235900
LOCATION:Frozen Head State Park, TN\, USA
URL:http://www.mattmahoney.net/barkley/
CATEGORIES:Ultramarathon
CONTACT:
CLASS:PUBLIC
PRIORITY:5
TRANSP:OPAQUE
END:VEVENT
END:VCALENDAR
