BEGIN:VCALENDAR
PRODID:-//http://statistik.d-u-v.org//PHP ultracalendar//EN
VERSION:2.0
METHOD:PUBLISH
BEGIN:VEVENT
DTSTAMP:20260423T053935
CREATED:20170115T004056
UID:1776922775.0.10544000-39157@statistik.d-u-v.org
SUMMARY:Marathon of Marathons 50mi Belgrade
DESCRIPTION: Marathon of Marathons 50mi Belgrade\n
  Boban Pantovic\n
  arkekomaraton[at]gmail.com
DTSTART:20170312T080000
DTEND:00000000T235900
LOCATION:Belgrad\, SRB
URL:http://maratonm.wordpress.com/
CATEGORIES:Ultramarathon
CONTACT:Boban Pantovic
CLASS:PUBLIC
PRIORITY:5
TRANSP:OPAQUE
END:VEVENT
END:VCALENDAR
