BEGIN:VCALENDAR
PRODID:-//http://statistik.d-u-v.org//PHP ultracalendar//EN
VERSION:2.0
METHOD:PUBLISH
BEGIN:VEVENT
DTSTAMP:20260420T101247
CREATED:20170109T231530
UID:1776679967.0.57256800-39112@statistik.d-u-v.org
SUMMARY:Personliga Rekordens Tävling 24 hour
DESCRIPTION: Personliga Rekordens Tävling 24 hour\n
  Christer Svensson\n
  christersvensson615[at]hotmail.com
DTSTART:20171216T110000
DTEND:20171217T110000
LOCATION:Växjö\, SWE
URL:http://www.prtvaxjo.se/
CATEGORIES:Ultramarathon
CONTACT:Christer Svensson
CLASS:PUBLIC
PRIORITY:5
TRANSP:OPAQUE
END:VEVENT
END:VCALENDAR
