BEGIN:VCALENDAR
PRODID:-//http://statistik.d-u-v.org//PHP ultracalendar//EN
VERSION:2.0
METHOD:PUBLISH
BEGIN:VEVENT
DTSTAMP:20260424T204320
CREATED:20170104T150025
UID:1777063400.0.21985000-39072@statistik.d-u-v.org
SUMMARY:Hong Kong 100 Ultra Trail Race
DESCRIPTION: Hong Kong 100 Ultra Trail Race\n
  \n
  hk100ultra[at]gmail.com
DTSTART:20170114T080000
DTEND:00000000T235900
LOCATION:Hong Kong\, HKG
URL:http://www.hk100-ultra.com/
CATEGORIES:Ultramarathon
CONTACT:
CLASS:PUBLIC
PRIORITY:5
TRANSP:OPAQUE
END:VEVENT
END:VCALENDAR
