BEGIN:VCALENDAR
PRODID:-//http://statistik.d-u-v.org//PHP ultracalendar//EN
VERSION:2.0
METHOD:PUBLISH
BEGIN:VEVENT
DTSTAMP:20260423T031328
CREATED:20100704T162757
UID:1776914008.0.32340700-3887@statistik.d-u-v.org
SUMMARY:thüringenULTRA - DUV-DM im Cross- und Landschaftslauf
DESCRIPTION: thüringenULTRA - DUV-DM im Cross- und Landschaftslauf\n
  Gunter Rothe\n
  info[at]thueringenultra.de
DTSTART:20100703T040000
DTEND:00000000T235900
LOCATION:Fröttstädt\, GER
URL:http://www.thueringenultra.de
CATEGORIES:Ultramarathon
CONTACT:Gunter Rothe
CLASS:PUBLIC
PRIORITY:5
TRANSP:OPAQUE
END:VEVENT
END:VCALENDAR
