BEGIN:VCALENDAR
PRODID:-//http://statistik.d-u-v.org//PHP ultracalendar//EN
VERSION:2.0
METHOD:PUBLISH
BEGIN:VEVENT
DTSTAMP:20260423T034908
CREATED:20090423T220714
UID:1776916148.0.15907400-3862@statistik.d-u-v.org
SUMMARY:6 days Slottsskogen, Göteborg
DESCRIPTION: 6 days Slottsskogen, Göteborg\n
  K-G Nyström\n
  marathonkg[at]gmail.com
DTSTART:20090830T090000
DTEND:20090905T235900
LOCATION:Göteborg\, SWE
URL:http://www.marathon.se/kgnystrom/6Dinfoger.htm
CATEGORIES:Ultramarathon
CONTACT:K-G Nyström
CLASS:PUBLIC
PRIORITY:5
TRANSP:OPAQUE
END:VEVENT
END:VCALENDAR
