BEGIN:VCALENDAR
PRODID:-//http://statistik.d-u-v.org//PHP ultracalendar//EN
VERSION:2.0
METHOD:PUBLISH
BEGIN:VEVENT
DTSTAMP:20260423T085503
CREATED:20161213T101921
UID:1776934503.0.34655500-38616@statistik.d-u-v.org
SUMMARY:Gran Trail Courmayeur 75 km
DESCRIPTION: Gran Trail Courmayeur 75 km\n
  Valle d'Aosta Trailers SSDrl\n
  segreteria[at]vdatrailers.it
DTSTART:20170708T000000
DTEND:00000000T235900
LOCATION:Courmayeur\, ITA
URL:http://www.gtcourmayeur.com/
CATEGORIES:Ultramarathon
CONTACT:Valle d'Aosta Trailers SSDrl
CLASS:PUBLIC
PRIORITY:5
TRANSP:OPAQUE
END:VEVENT
END:VCALENDAR
