BEGIN:VCALENDAR
PRODID:-//http://statistik.d-u-v.org//PHP ultracalendar//EN
VERSION:2.0
METHOD:PUBLISH
BEGIN:VEVENT
DTSTAMP:20260423T050439
CREATED:20161223T151700
UID:1776920679.0.33817700-38568@statistik.d-u-v.org
SUMMARY:San Francisco Summer Solstice 6h
DESCRIPTION: San Francisco Summer Solstice 6h\n
  \n
  events[at]pctrailruns.com
DTSTART:20170609T080000
DTEND:00000000T235900
LOCATION:San Francisco, CA\, USA
URL:http://www.pctrailruns.com/event.aspx?dtid=11010
CATEGORIES:Ultramarathon
CONTACT:
CLASS:PUBLIC
PRIORITY:5
TRANSP:OPAQUE
END:VEVENT
END:VCALENDAR
