BEGIN:VCALENDAR
PRODID:-//http://statistik.d-u-v.org//PHP ultracalendar//EN
VERSION:2.0
METHOD:PUBLISH
BEGIN:VEVENT
DTSTAMP:20260424T150709
CREATED:20161220T161829
UID:1777043229.0.93076900-38441@statistik.d-u-v.org
SUMMARY:Manila to Daet 342 Km Endurance Race
DESCRIPTION: Manila to Daet 342 Km Endurance Race\n
  RD Rodell Mendoza\n
  runnin.active50[at]gmail.com
DTSTART:20160910T000000
DTEND:20160913T235900
LOCATION:Manila\, PHI
URL:https://rodellmen.wordpress.com/
CATEGORIES:Ultramarathon
CONTACT:RD Rodell Mendoza
CLASS:PUBLIC
PRIORITY:5
TRANSP:OPAQUE
END:VEVENT
END:VCALENDAR
