BEGIN:VCALENDAR
PRODID:-//http://statistik.d-u-v.org//PHP ultracalendar//EN
VERSION:2.0
METHOD:PUBLISH
BEGIN:VEVENT
DTSTAMP:20260425T032323
CREATED:20161214T151358
UID:1777087403.0.26847400-38262@statistik.d-u-v.org
SUMMARY:Berryman 50 Mile
DESCRIPTION: Berryman 50 Mile\n
  \n
  
DTSTART:20050521T000000
DTEND:00000000T235900
LOCATION:Potosi, MO\, USA
URL:http://www.stlouisultrarunnersgroup.net/
CATEGORIES:Ultramarathon
CONTACT:
CLASS:PUBLIC
PRIORITY:5
TRANSP:OPAQUE
END:VEVENT
END:VCALENDAR
