BEGIN:VCALENDAR
PRODID:-//http://statistik.d-u-v.org//PHP ultracalendar//EN
VERSION:2.0
METHOD:PUBLISH
BEGIN:VEVENT
DTSTAMP:20260423T163504
CREATED:20161208T160555
UID:1776962104.0.55239100-38092@statistik.d-u-v.org
SUMMARY:Buckeye Buster 50K
DESCRIPTION: Buckeye Buster 50K\n
  \n
  
DTSTART:20150606T000000
DTEND:00000000T235900
LOCATION:Lore City, OH\, USA
URL:https://www.westernreserveracing.com/
CATEGORIES:Ultramarathon
CONTACT:
CLASS:PUBLIC
PRIORITY:5
TRANSP:OPAQUE
END:VEVENT
END:VCALENDAR
