BEGIN:VCALENDAR
PRODID:-//http://statistik.d-u-v.org//PHP ultracalendar//EN
VERSION:2.0
METHOD:PUBLISH
BEGIN:VEVENT
DTSTAMP:20260422T211810
CREATED:20161207T183941
UID:1776892690.0.99609800-38062@statistik.d-u-v.org
SUMMARY:Dances with Dirt - Devil's Lake 50K Ultra
DESCRIPTION: Dances with Dirt - Devil's Lake 50K Ultra\n
  Dawn McConnachie\n
  events[at]runningfit.com
DTSTART:20170708T053000
DTEND:00000000T235900
LOCATION:Baraboo, WI\, USA
URL:http://danceswithdirt.com/devilslake-home
CATEGORIES:Ultramarathon
CONTACT:Dawn McConnachie
CLASS:PUBLIC
PRIORITY:5
TRANSP:OPAQUE
END:VEVENT
END:VCALENDAR
