BEGIN:VCALENDAR
PRODID:-//http://statistik.d-u-v.org//PHP ultracalendar//EN
VERSION:2.0
METHOD:PUBLISH
BEGIN:VEVENT
DTSTAMP:20260419T164445
CREATED:20161206T011222
UID:1776617085.0.07617500-38006@statistik.d-u-v.org
SUMMARY:Self-Transcendence 3100 Mile Race
DESCRIPTION: Self-Transcendence 3100 Mile Race\n
  Sahishnu Szczesiul\n
  scmtny[at]earthlink.net
DTSTART:20170618T060000
DTEND:20170808T235900
LOCATION:New York, NY\, USA
URL:http://3100.srichinmoyraces.org/
CATEGORIES:Ultramarathon
CONTACT:Sahishnu Szczesiul
CLASS:PUBLIC
PRIORITY:5
TRANSP:OPAQUE
END:VEVENT
END:VCALENDAR
