BEGIN:VCALENDAR
PRODID:-//http://statistik.d-u-v.org//PHP ultracalendar//EN
VERSION:2.0
METHOD:PUBLISH
BEGIN:VEVENT
DTSTAMP:20260424T204325
CREATED:20090218T000000
UID:1777063405.0.22808700-3774@statistik.d-u-v.org
SUMMARY:Beigan Ultramarathon
DESCRIPTION: Beigan Ultramarathon\n
  \n
  
DTSTART:20200516T070000
DTEND:00000000T235900
LOCATION:Beigan Township\, TPE
URL:https://bao-ming.com/eb/www/activity_content.php?activitysn=4140&contentsn=20679
CATEGORIES:Ultramarathon
CONTACT:
CLASS:PUBLIC
PRIORITY:5
TRANSP:OPAQUE
END:VEVENT
END:VCALENDAR
