BEGIN:VCALENDAR
PRODID:-//http://statistik.d-u-v.org//PHP ultracalendar//EN
VERSION:2.0
METHOD:PUBLISH
BEGIN:VEVENT
DTSTAMP:20260424T174725
CREATED:20161115T152632
UID:1777052845.0.37675800-37720@statistik.d-u-v.org
SUMMARY:Cuyamaca-Laguna 50k Trail Race
DESCRIPTION: Cuyamaca-Laguna 50k Trail Race\n
  Race Director Mike Suter\n
  
DTSTART:20011013T000000
DTEND:00000000T235900
LOCATION:Julian, CA\, USA
URL:
CATEGORIES:Ultramarathon
CONTACT:Race Director Mike Suter
CLASS:PUBLIC
PRIORITY:5
TRANSP:OPAQUE
END:VEVENT
END:VCALENDAR
