BEGIN:VCALENDAR
PRODID:-//http://statistik.d-u-v.org//PHP ultracalendar//EN
VERSION:2.0
METHOD:PUBLISH
BEGIN:VEVENT
DTSTAMP:20260423T033553
CREATED:20161115T152632
UID:1776915353.0.83839700-37714@statistik.d-u-v.org
SUMMARY:Cuyamaca-Laguna 50k Trail Race
DESCRIPTION: Cuyamaca-Laguna 50k Trail Race\n
  \n
  
DTSTART:19951014T000000
DTEND:00000000T235900
LOCATION:San Diego, CA\, USA
URL:
CATEGORIES:Ultramarathon
CONTACT:
CLASS:PUBLIC
PRIORITY:5
TRANSP:OPAQUE
END:VEVENT
END:VCALENDAR
