BEGIN:VCALENDAR
PRODID:-//http://statistik.d-u-v.org//PHP ultracalendar//EN
VERSION:2.0
METHOD:PUBLISH
BEGIN:VEVENT
DTSTAMP:20260426T000444
CREATED:20161114T173700
UID:1777161884.0.04326100-37692@statistik.d-u-v.org
SUMMARY:Ultra-Trail Mountain Yanshan
DESCRIPTION: Ultra-Trail Mountain Yanshan\n
  \n
  
DTSTART:20160924T050000
DTEND:00000000T235900
LOCATION:Beijing City\, CHN
URL:http://www.phonedm.com/race/racedetail.jsp?raceid=34
CATEGORIES:Ultramarathon
CONTACT:
CLASS:PUBLIC
PRIORITY:5
TRANSP:OPAQUE
END:VEVENT
END:VCALENDAR
