BEGIN:VCALENDAR
PRODID:-//http://statistik.d-u-v.org//PHP ultracalendar//EN
VERSION:2.0
METHOD:PUBLISH
BEGIN:VEVENT
DTSTAMP:20260423T012332
CREATED:20161113T202455
UID:1776907412.0.14402700-37665@statistik.d-u-v.org
SUMMARY:Kokkola Ultra Run 24h
DESCRIPTION: Kokkola Ultra Run 24h\n
  Marko Forsell\n
  info[at]kokkolaultrarun.fi
DTSTART:20170520T120000
DTEND:20170521T235900
LOCATION:Kokkola\, FIN
URL:http://www.kokkolaultrarun.fi
CATEGORIES:Ultramarathon
CONTACT:Marko Forsell
CLASS:PUBLIC
PRIORITY:5
TRANSP:OPAQUE
END:VEVENT
END:VCALENDAR
