BEGIN:VCALENDAR
PRODID:-//http://statistik.d-u-v.org//PHP ultracalendar//EN
VERSION:2.0
METHOD:PUBLISH
BEGIN:VEVENT
DTSTAMP:20260419T164449
CREATED:20161111T070812
UID:1776617089.0.91183200-37644@statistik.d-u-v.org
SUMMARY:Julsø Ultra 60km
DESCRIPTION: Julsø Ultra 60km\n
  \n
  info[at]julsoeultra.dk
DTSTART:20170429T090000
DTEND:00000000T235900
LOCATION:Silkeborg\, DEN
URL:http://julsoeultra.dk/
CATEGORIES:Ultramarathon
CONTACT:
CLASS:PUBLIC
PRIORITY:5
TRANSP:OPAQUE
END:VEVENT
END:VCALENDAR
