BEGIN:VCALENDAR
PRODID:-//http://statistik.d-u-v.org//PHP ultracalendar//EN
VERSION:2.0
METHOD:PUBLISH
BEGIN:VEVENT
DTSTAMP:20260421T151535
CREATED:20161114T005229
UID:1776784535.0.00297200-37570@statistik.d-u-v.org
SUMMARY:Ring O' Fire - Anglesey 135 Mile Ultra Coastal Marathon
DESCRIPTION: Ring O' Fire - Anglesey 135 Mile Ultra Coastal Marathon\n
  Race Directors: James Bingham, Quentin Brooksbank\n
  team[at]ringofire.co.uk
DTSTART:20170901T130000
DTEND:20170903T163000
LOCATION:Holyhead, Isle of Anglesey\, GBR
URL:http://www.ringofire.co.uk/
CATEGORIES:Ultramarathon
CONTACT:Race Directors: James Bingham, Quentin Brooksbank
CLASS:PUBLIC
PRIORITY:5
TRANSP:OPAQUE
END:VEVENT
END:VCALENDAR
