BEGIN:VCALENDAR
PRODID:-//http://statistik.d-u-v.org//PHP ultracalendar//EN
VERSION:2.0
METHOD:PUBLISH
BEGIN:VEVENT
DTSTAMP:20260424T124503
CREATED:20161113T023622
UID:1777034703.0.05742800-37410@statistik.d-u-v.org
SUMMARY:24h Lauf in Irdning
DESCRIPTION: 24h Lauf in Irdning\n
  Anton Wippel\n
  info[at]24h-lauf.at
DTSTART:20170630T190000
DTEND:20170701T190000
LOCATION:Irdning\, AUT
URL:http://www.24h-lauf.at/
CATEGORIES:Ultramarathon
CONTACT:Anton Wippel
CLASS:PUBLIC
PRIORITY:5
TRANSP:OPAQUE
END:VEVENT
END:VCALENDAR
