BEGIN:VCALENDAR
PRODID:-//http://statistik.d-u-v.org//PHP ultracalendar//EN
VERSION:2.0
METHOD:PUBLISH
BEGIN:VEVENT
DTSTAMP:20260423T070102
CREATED:20161111T230837
UID:1776927662.0.92605100-37365@statistik.d-u-v.org
SUMMARY:Self Transcendence 6 Hour Run Kingston
DESCRIPTION: Self Transcendence 6 Hour Run Kingston\n
  Race Director Hladini Wilson\n
  oneworld[at]kingston.net
DTSTART:20170603T090000
DTEND:20170603T150000
LOCATION:Kingston, ON\, CAN
URL:http://ca.srichinmoyraces.org/kingston/6-hour-race
CATEGORIES:Ultramarathon
CONTACT:Race Director Hladini Wilson
CLASS:PUBLIC
PRIORITY:5
TRANSP:OPAQUE
END:VEVENT
END:VCALENDAR
