BEGIN:VCALENDAR
PRODID:-//http://statistik.d-u-v.org//PHP ultracalendar//EN
VERSION:2.0
METHOD:PUBLISH
BEGIN:VEVENT
DTSTAMP:20260420T114007
CREATED:20090124T000000
UID:1776685207.0.14435000-3730@statistik.d-u-v.org
SUMMARY:Fast Trax Ultra 50km, 50mile & 100km
DESCRIPTION: Fast Trax Ultra 50km, 50mile & 100km\n
  \n
  
DTSTART:20090613T070000
DTEND:00000000T235900
LOCATION:Edmonton, AB\, CAN
URL:http://ultra.fasttraxskishop.com/
CATEGORIES:Ultramarathon
CONTACT:
CLASS:PUBLIC
PRIORITY:5
TRANSP:OPAQUE
END:VEVENT
END:VCALENDAR
