BEGIN:VCALENDAR
PRODID:-//http://statistik.d-u-v.org//PHP ultracalendar//EN
VERSION:2.0
METHOD:PUBLISH
BEGIN:VEVENT
DTSTAMP:20260423T020417
CREATED:20161110T184415
UID:1776909857.0.41463400-37250@statistik.d-u-v.org
SUMMARY:tBunk Endurance Challenge 200 Mile
DESCRIPTION: tBunk Endurance Challenge 200 Mile\n
  Robert Wehner\n
  rwehner[at]hotmail.com
DTSTART:20161104T000000
DTEND:20161106T235900
LOCATION:La Grange, WI\, USA
URL:http://tbunk.blogspot.de/
CATEGORIES:Ultramarathon
CONTACT:Robert Wehner
CLASS:PUBLIC
PRIORITY:5
TRANSP:OPAQUE
END:VEVENT
END:VCALENDAR
