BEGIN:VCALENDAR
PRODID:-//http://statistik.d-u-v.org//PHP ultracalendar//EN
VERSION:2.0
METHOD:PUBLISH
BEGIN:VEVENT
DTSTAMP:20260419T184415
CREATED:20161105T074903
UID:1776624255.0.88974000-37142@statistik.d-u-v.org
SUMMARY:Hardcastle 24 - 6 hour endurance run
DESCRIPTION: Hardcastle 24 - 6 hour endurance run\n
  \n
  info[at]teamoa.co.uk
DTSTART:20170513T130000
DTEND:00000000T235900
LOCATION:Hebden Bridge, West Yorkshire\, GBR
URL:http://www.hardcastle24.co.uk/
CATEGORIES:Ultramarathon
CONTACT:
CLASS:PUBLIC
PRIORITY:5
TRANSP:OPAQUE
END:VEVENT
END:VCALENDAR
