BEGIN:VCALENDAR
PRODID:-//http://statistik.d-u-v.org//PHP ultracalendar//EN
VERSION:2.0
METHOD:PUBLISH
BEGIN:VEVENT
DTSTAMP:20260423T050433
CREATED:20160927T150006
UID:1776920673.0.80400100-37077@statistik.d-u-v.org
SUMMARY:Universiti Malaya 6 hours Ultra Marathon - night run
DESCRIPTION: Universiti Malaya 6 hours Ultra Marathon - night run\n
  \n
  um24[at]endurancenature.com.my
DTSTART:20161022T200000
DTEND:20161023T020000
LOCATION:Kuala Lumpur\, MAS
URL:http://endurancenature.com.my/index.php/event-eranzi-malaysia-eco-100-2/
CATEGORIES:Ultramarathon
CONTACT:
CLASS:PUBLIC
PRIORITY:5
TRANSP:OPAQUE
END:VEVENT
END:VCALENDAR
