BEGIN:VCALENDAR
PRODID:-//http://statistik.d-u-v.org//PHP ultracalendar//EN
VERSION:2.0
METHOD:PUBLISH
BEGIN:VEVENT
DTSTAMP:20260423T020216
CREATED:20161102T181252
UID:1776909736.0.33584800-37059@statistik.d-u-v.org
SUMMARY:Dia De Los Muertos 24 Hour Endurance Run
DESCRIPTION: Dia De Los Muertos 24 Hour Endurance Run\n
  Race Directors Tom Hurd and Jessica Brundige\n
  spultraclub[at]gmail.com; jlbrundige1977[at]hotmail.com
DTSTART:20151024T000000
DTEND:20151025T235900
LOCATION:Lillington, NC\, USA
URL:http://roamultras.com/#/diadelosmuertos/
CATEGORIES:Ultramarathon
CONTACT:Race Directors Tom Hurd and Jessica Brundige
CLASS:PUBLIC
PRIORITY:5
TRANSP:OPAQUE
END:VEVENT
END:VCALENDAR
