BEGIN:VCALENDAR
PRODID:-//http://statistik.d-u-v.org//PHP ultracalendar//EN
VERSION:2.0
METHOD:PUBLISH
BEGIN:VEVENT
DTSTAMP:20260419T170253
CREATED:20161102T164647
UID:1776618173.0.33168000-37038@statistik.d-u-v.org
SUMMARY:Bremer Bergmarathon mit Höhenmetersammmlung
DESCRIPTION: Bremer Bergmarathon mit Höhenmetersammmlung\n
  Olaf Häsler\n
  olaf.haesler[at]nord-com.net
DTSTART:20161203T090000
DTEND:00000000T235900
LOCATION:Bremen\, GER
URL:http://my4.raceresult.com/51103/?lang=de
CATEGORIES:Ultramarathon
CONTACT:Olaf Häsler
CLASS:PUBLIC
PRIORITY:5
TRANSP:OPAQUE
END:VEVENT
END:VCALENDAR
