BEGIN:VCALENDAR
PRODID:-//http://statistik.d-u-v.org//PHP ultracalendar//EN
VERSION:2.0
METHOD:PUBLISH
BEGIN:VEVENT
DTSTAMP:20260420T000713
CREATED:20161102T091934
UID:1776643633.0.86993900-37018@statistik.d-u-v.org
SUMMARY:Glen Lyon
DESCRIPTION: Glen Lyon\n
  \n
  info[at]runyabam.com
DTSTART:20170506T093000
DTEND:00000000T235900
LOCATION:Glenlyon, Aberfeldy\, GBR
URL:http://runyabam.com/glen-lyon/
CATEGORIES:Ultramarathon
CONTACT:
CLASS:PUBLIC
PRIORITY:5
TRANSP:OPAQUE
END:VEVENT
END:VCALENDAR
