BEGIN:VCALENDAR
PRODID:-//http://statistik.d-u-v.org//PHP ultracalendar//EN
VERSION:2.0
METHOD:PUBLISH
BEGIN:VEVENT
DTSTAMP:20260419T220718
CREATED:20161027T223714
UID:1776636438.0.82153000-36965@statistik.d-u-v.org
SUMMARY:Trail Montan'Aspe
DESCRIPTION: Trail Montan'Aspe\n
  \n
  montanaspe[at]gmail.com
DTSTART:20160611T000000
DTEND:00000000T235900
LOCATION:Bedous\, FRA
URL:http://www.trail-montanaspe.com/
CATEGORIES:Ultramarathon
CONTACT:
CLASS:PUBLIC
PRIORITY:5
TRANSP:OPAQUE
END:VEVENT
END:VCALENDAR
