BEGIN:VCALENDAR
PRODID:-//http://statistik.d-u-v.org//PHP ultracalendar//EN
VERSION:2.0
METHOD:PUBLISH
BEGIN:VEVENT
DTSTAMP:20260423T011105
CREATED:20160715T120649
UID:1776906665.0.79564500-36949@statistik.d-u-v.org
SUMMARY:Hermann-Nightrun Double
DESCRIPTION: Hermann-Nightrun Double\n
  Jan-Olof Wadehn\n
  info[at]hermann-nightrun.de
DTSTART:20161015T170000
DTEND:20161016T080000
LOCATION:Bielefeld\, GER
URL:http://www.hermann-nightrun.de
CATEGORIES:Ultramarathon
CONTACT:Jan-Olof Wadehn
CLASS:PUBLIC
PRIORITY:5
TRANSP:OPAQUE
END:VEVENT
END:VCALENDAR
