BEGIN:VCALENDAR
PRODID:-//http://statistik.d-u-v.org//PHP ultracalendar//EN
VERSION:2.0
METHOD:PUBLISH
BEGIN:VEVENT
DTSTAMP:20260424T225458
CREATED:20161027T150548
UID:1777071298.0.93226600-36914@statistik.d-u-v.org
SUMMARY:The Hitchcock Experience 50 Miles
DESCRIPTION: The Hitchcock Experience 50 Miles\n
  Race Directors: Scott Giddings, Ron Ruhs\n
  HitchcockHundred[at]IRunWithGoats.org
DTSTART:20161210T210000
DTEND:20161211T235900
LOCATION:Honey Creek, IA\, USA
URL:http://www.irunwithgoats.org/hitchcock-hundred.html
CATEGORIES:Ultramarathon
CONTACT:Race Directors: Scott Giddings, Ron Ruhs
CLASS:PUBLIC
PRIORITY:5
TRANSP:OPAQUE
END:VEVENT
END:VCALENDAR
