BEGIN:VCALENDAR
PRODID:-//http://statistik.d-u-v.org//PHP ultracalendar//EN
VERSION:2.0
METHOD:PUBLISH
BEGIN:VEVENT
DTSTAMP:20260423T020404
CREATED:20161024T181339
UID:1776909844.0.27910300-36884@statistik.d-u-v.org
SUMMARY:Pfälzer Weinsteig 100 Meilen Ultratrail
DESCRIPTION: Pfälzer Weinsteig 100 Meilen Ultratrail\n
  Günther Bruhn\n
  guenther.bruhn[at]web.de
DTSTART:20171014T070000
DTEND:20171015T170000
LOCATION:Schweigen-Rechtenbach\, GER
URL:https://www.facebook.com/Pf%C3%A4lzer-Weinsteig-100-Meilen-Ultratrail-186798074846812/
CATEGORIES:Ultramarathon
CONTACT:Günther Bruhn
CLASS:PUBLIC
PRIORITY:5
TRANSP:OPAQUE
END:VEVENT
END:VCALENDAR
