BEGIN:VCALENDAR
PRODID:-//http://statistik.d-u-v.org//PHP ultracalendar//EN
VERSION:2.0
METHOD:PUBLISH
BEGIN:VEVENT
DTSTAMP:20260423T163526
CREATED:20161020T150933
UID:1776962126.0.80351600-36819@statistik.d-u-v.org
SUMMARY:Tahoe Midnight Express Ultra 72 Miler
DESCRIPTION: Tahoe Midnight Express Ultra 72 Miler\n
  Lucia Lake (RD)\n
  lkolkin[at]yahoo.com
DTSTART:20171014T210000
DTEND:20171015T235900
LOCATION:Tallac Village, CA\, USA
URL:http://runtahoe.com/
CATEGORIES:Ultramarathon
CONTACT:Lucia Lake (RD)
CLASS:PUBLIC
PRIORITY:5
TRANSP:OPAQUE
END:VEVENT
END:VCALENDAR
