BEGIN:VCALENDAR
PRODID:-//http://statistik.d-u-v.org//PHP ultracalendar//EN
VERSION:2.0
METHOD:PUBLISH
BEGIN:VEVENT
DTSTAMP:20260423T062858
CREATED:20161020T150933
UID:1776925738.0.23139100-36818@statistik.d-u-v.org
SUMMARY:Javelina Jangover Night Run 50K
DESCRIPTION: Javelina Jangover Night Run 50K\n
  Jamil Coury (Race Director)\n
  jamil[at]aravaiparunning.com
DTSTART:20170909T193000
DTEND:20170910T235900
LOCATION:Fountain Hills, AZ\, USA
URL:http://aravaiparunning.com/network/insomniac/jangover/#Jangover
CATEGORIES:Ultramarathon
CONTACT:Jamil Coury (Race Director)
CLASS:PUBLIC
PRIORITY:5
TRANSP:OPAQUE
END:VEVENT
END:VCALENDAR
