BEGIN:VCALENDAR
PRODID:-//http://statistik.d-u-v.org//PHP ultracalendar//EN
VERSION:2.0
METHOD:PUBLISH
BEGIN:VEVENT
DTSTAMP:20260423T041109
CREATED:20161014T154950
UID:1776917469.0.98241800-36694@statistik.d-u-v.org
SUMMARY:Badger Mountain 100 Mile Challenge
DESCRIPTION: Badger Mountain 100 Mile Challenge\n
  Jason Reathaford, Race Director\n
  jasonreathaford[at]gmail.com
DTSTART:20170324T070000
DTEND:20170325T235900
LOCATION:Kennewick, WA\, USA
URL:http://www.badgermountainchallenge.com/
CATEGORIES:Ultramarathon
CONTACT:Jason Reathaford, Race Director
CLASS:PUBLIC
PRIORITY:5
TRANSP:OPAQUE
END:VEVENT
END:VCALENDAR
