BEGIN:VCALENDAR
PRODID:-//http://statistik.d-u-v.org//PHP ultracalendar//EN
VERSION:2.0
METHOD:PUBLISH
BEGIN:VEVENT
DTSTAMP:20260422T221408
CREATED:20161013T215355
UID:1776896048.0.79571100-36673@statistik.d-u-v.org
SUMMARY:Caboolture Historical Village 12h
DESCRIPTION: Caboolture Historical Village 12h\n
  Geoff Williams\n
  geoff[at]geoffsruns.com
DTSTART:20160813T080000
DTEND:00000000T235900
LOCATION:Caboolture, QLD\, AUS
URL:http://geoffsruns.com/2016-caboolture-historical-village-24-48-hour-event/
CATEGORIES:Ultramarathon
CONTACT:Geoff Williams
CLASS:PUBLIC
PRIORITY:5
TRANSP:OPAQUE
END:VEVENT
END:VCALENDAR
